BEGIN:VCALENDAR
VERSION:2.0
PRODID:-//zambiamission.org//NONSGML kigkonsult.se iCalcreator 2.30.10//
CALSCALE:GREGORIAN
METHOD:PUBLISH
UID:135d0b9c-74b7-4b9f-b50a-b00c905cbc80
X-WR-CALDESC:
X-WR-RELCALID:d122bfd7d818fea6c259b56ad0c770b4
X-WR-TIMEZONE:America/Chicago
BEGIN:VTIMEZONE
TZID:America/Chicago
BEGIN:STANDARD
TZNAME:CST
DTSTART:20251102T020000
TZOFFSETFROM:-0500
TZOFFSETTO:-0600
RDATE:20261101T020000
RDATE:20271107T020000
END:STANDARD
BEGIN:DAYLIGHT
TZNAME:CDT
DTSTART:20260308T020000
TZOFFSETFROM:-0600
TZOFFSETTO:-0500
RDATE:20270314T020000
END:DAYLIGHT
END:VTIMEZONE
BEGIN:VEVENT
UID:c27b5c6b-ed6c-453f-a0a5-17f6b86aa129
DTSTAMP:20260422T120352Z
DESCRIPTION:
DTSTART;TZID=America/Chicago:20260514T050000
DTEND;TZID=America/Chicago:20260514T050001
LOCATION:Namwianga Mission
SUMMARY:HIZ Path Arrives
END:VEVENT
END:VCALENDAR
