BEGIN:VCALENDAR
VERSION:2.0
PRODID:-//zambiamission.org//NONSGML kigkonsult.se iCalcreator 2.30.10//
CALSCALE:GREGORIAN
METHOD:PUBLISH
UID:3e098019-3cba-4594-8848-fb3c81e6321b
X-WR-CALDESC:Harding University In Zambia Study Abroad group
X-WR-RELCALID:31adbf52eaea8a0733ca1ef7a9da938a
X-WR-TIMEZONE:America/Chicago
BEGIN:VTIMEZONE
TZID:America/Chicago
BEGIN:STANDARD
TZNAME:CST
DTSTART:20251102T020000
TZOFFSETFROM:-0500
TZOFFSETTO:-0600
RDATE:20261101T020000
RDATE:20271107T020000
END:STANDARD
BEGIN:DAYLIGHT
TZNAME:CDT
DTSTART:20260308T020000
TZOFFSETFROM:-0600
TZOFFSETTO:-0500
RDATE:20270314T020000
END:DAYLIGHT
END:VTIMEZONE
BEGIN:VEVENT
UID:7597d574-efe2-4ca0-a449-b2fff020d934
DTSTAMP:20260422T160227Z
DESCRIPTION:Harding University In Zambia Study Abroad group
DTSTART;TZID=America/Chicago:20260517T050000
DTEND;TZID=America/Chicago:20260517T050001
LOCATION:Namwianga Mission
SUMMARY:Harding In Zambia Arrives
END:VEVENT
END:VCALENDAR
